BEGIN:VCALENDAR
VERSION:2.0
PRODID:-//Thomas Kunst - ECPv6.15.20//NONSGML v1.0//EN
CALSCALE:GREGORIAN
METHOD:PUBLISH
X-ORIGINAL-URL:https://thomaskunst.de
X-WR-CALDESC:Veranstaltungen für Thomas Kunst
REFRESH-INTERVAL;VALUE=DURATION:PT1H
X-Robots-Tag:noindex
X-PUBLISHED-TTL:PT1H
BEGIN:VTIMEZONE
TZID:UTC
BEGIN:STANDARD
TZOFFSETFROM:+0000
TZOFFSETTO:+0000
TZNAME:UTC
DTSTART:20230101T000000
END:STANDARD
END:VTIMEZONE
BEGIN:VEVENT
DTSTART;TZID=UTC:20240506T180000
DTEND;TZID=UTC:20240506T180000
DTSTAMP:20260421T184556
CREATED:20240402T140605Z
LAST-MODIFIED:20240402T140605Z
UID:618-1715018400-1715018400@thomaskunst.de
SUMMARY:Lesung
DESCRIPTION:Weitere Informationen folgen
URL:https://thomaskunst.de/event/lesung-6/
LOCATION:Alte Schmiede Wien
END:VEVENT
END:VCALENDAR